BEGIN:VCALENDAR
VERSION:2.0
PRODID:-//eventon.com NONSGML v1.0//EN
CALSCALE:GREGORIAN
METHOD:PUBLISH
BEGIN:VEVENT
UID:69e7e49395ba6
DTSTAMP:20260421T205651Z
DTSTART:20170425T000000Z
DTEND:20170425T000000Z
LOCATION:
SUMMARY:Conferencia de la Subdirectora de Evaluación y Fomento de la Investigación del ISCIII sobre  la Política en Redes\,  CIBER Y RRHH
DESCRIPTION:El próximo&nbsp;martes 25 de abril&nbsp;tendremos el placer de
  contar con&nbsp;Belen Bornstein&nbsp;que nos hablará sobres las «Políti
 cas del Instituto de Salud Carlos III en REDES\,  CIBER y RRHH» a las&nbsp
 ;13:00 horas&nbsp;en el Salón de Actos del Hospital Campus de la Salud de 
 Granada. La Dra Belén Bornstein\,  Subdirectora de Evaluación y[..]\nhttp
 s://www.ibsgranada.es/events/presentacion-oficial-de-la-accion-estrategica-
 en-salud-2017-por-la-subdirectora-de-evaluacion-y-fomento-de-la-investigaci
 on-del-instituto-de-salud-carlos-iii/
URL:https://www.ibsgranada.es/events/presentacion-oficial-de-la-accion-estrategica-en-salud-2017-por-la-subdirectora-de-evaluacion-y-fomento-de-la-investigacion-del-instituto-de-salud-carlos-iii/
END:VEVENT
END:VCALENDAR