BEGIN:VCALENDAR
VERSION:2.0
PRODID:-//eventon.com NONSGML v1.0//EN
CALSCALE:GREGORIAN
METHOD:PUBLISH
BEGIN:VEVENT
UID:69ec2c7e198f1
DTSTAMP:20260425T025246Z
DTSTART:20161122T010000Z
DTEND:20161122T010000Z
LOCATION:
SUMMARY:IV Mesa de Expertos en Inmunooncología
DESCRIPTION:&nbsp; La inmunooncología es una nueva forma de abordar el cá
 ncer que actúa indirectamente sobre el tumor al estimular al sistema inmun
 ológico del paciente para reconocer y destruir a las células cancerígena
 s. Aunque es una disciplina en la que se trabaja desde mediados de la déca
 da de los 90\,  no[..]\nhttps://www.ibsgranada.es/events/iv-mesa-de-experto
 s-en-inmunooncologia/
URL:https://www.ibsgranada.es/events/iv-mesa-de-expertos-en-inmunooncologia/
END:VEVENT
END:VCALENDAR