BEGIN:VCALENDAR
VERSION:2.0
PRODID:-//eventon.com NONSGML v1.0//EN
CALSCALE:GREGORIAN
METHOD:PUBLISH
BEGIN:VEVENT
UID:69e776cfe1a75
DTSTAMP:20260421T130831Z
DTSTART:20211129T000000Z
DTEND:20211203T235900Z
LOCATION:
SUMMARY:Curso Abordaje multidisciplinar del Consejo Genético en Cáncer
DESCRIPTION:Del 29 de noviembre al 3 de diciembre de 2021 Modalidad presenc
 ial: Salón de Grados C\,  Torre C\,  Planta 1. Facultad de Medicina. Unive
 rsidad de Granada Modalidad virtual: Google meet Dirección: Marta Cuadros 
 Celorrio. Responsable de un grupo del IBS (IBS-Ae22). Profa. Titular del Dp
 to. de Bioquímica y Biología Molecular[..]\nhttps://www.ibsgranada.es/eve
 nts/curso-abordaje-multidisciplinar-del-consejo-genetico-en-cancer/
URL:https://www.ibsgranada.es/events/curso-abordaje-multidisciplinar-del-consejo-genetico-en-cancer/
END:VEVENT
END:VCALENDAR