BEGIN:VCALENDAR
VERSION:2.0
PRODID:-//eventon.com NONSGML v1.0//EN
CALSCALE:GREGORIAN
METHOD:PUBLISH
BEGIN:VEVENT
UID:69e4da3f758e7
DTSTAMP:20260419T133559Z
DTSTART:20211027T200000Z
DTEND:20211125T003000Z
LOCATION:
SUMMARY:III Curso de Fundamentos de Investigación en Ciencias de la Salud (2ª ed.)
DESCRIPTION:[vc_row][vc_column][vc_column_text]Les presentamos la segunda e
 dición del III Curso de Fundamentos de Investigación en Ciencias de la Sa
 lud\,  organizado por el ibs.GRANADA. El objetivo principal del curso es 
 aproximar la investigación básica a la clínica y de servicios sanitarios
 : Investigación Traslacional\,  a través de los siguientes objetivos espe
 cíficos: Poner a disposición de los[..]\nhttps://www.ibsgranada.es/events
 /iii-curso-de-fundamentos-de-investigacion-en-ciencias-de-la-salud-2a-ed/
URL:https://www.ibsgranada.es/events/iii-curso-de-fundamentos-de-investigacion-en-ciencias-de-la-salud-2a-ed/
END:VEVENT
END:VCALENDAR